Workbook

Sheet Am-241 Default
A1: When the following variables, hi-lighted in green below, are changed, each value in the rest of the sheet will also change. | D1: Resident | F1: Am-241 | G1: Resident | I1: Am-241 | J1: Resident | L1: Am-241 | M1: external | N1: soil volume | O1: Am-241 | P1: external | Q1: 1cm | R1: Am-241 | S1: external | T1: 15cm | U1: Am-241 | V1: Worker | W1: outdoor | X1: Am-241 | Y1: Worker | Z1: composite | AA1: Am-241 | AB1: Worker | AC1: composite | AD1: indoor | AE1: outdoor | AF1: Construction (standard) | AG1: Construction (non standard) | AH1: Cs-137+D | AI1: external | AJ1: soil volume | AK1: Am-241 | AL1: external | AM1: 1cm | AN1: Am-241 | AO1: external | AP1: 15cm | AQ1: Am-241 | AR1: external | AS1: soil volume | AT1: Am-241 | AU1: external | AV1: 1cm | AW1: Am-241 | AX1: external | AY1: 15cm | AZ1: Am-241 | BA1: external | BB1: soil volume | BC1: Am-241 | BD1: external | BE1: 1cm | BF1: Am-241 | BG1: external | BH1: 15cm | BI1: Am-241 | BJ1: external | BK1: soil volume | BL1: Am-241 | BM1: external | BN1: 1cm | BO1: Am-241 | BP1: external | BQ1: 15cm | BR1: Am-241 | BS1: Recreator | BU1: Am-241 | BV1: Recreator | BX1: Am-241 | BY1: Recretor | CA1: Am-241 | CB1: Recreator | CC1: soil volume | CD1: Am-241 | CE1: Recreator | CF1: 1cm | CG1: Am-241 | CH1: Recreator | CI1: 15cm | CJ1: Am-241 | CK1: Recreator | CL1: Fowl | CM1: Am-241 | CN1: Recreator | CO1: Fowl | CP1: Am-241 | CQ1: Recreator | CR1: Fowl | CS1: Am-241 | CT1: Farmer | CV1: Am-241 | CW1: Farmer | CY1: Am-241 | CZ1: farmer | DB1: Am-241 | DC1: farmer | DE1: Am-241 | DF1: farmer | DG1: water | DH1: Am-241 | DI1: farmer | DJ1: soil | DK1: Am-241 | DL1: farmer | DM1: s&w | DN1: Am-241 | DO1: farmer | DP1: s&w | DQ1: Am-241 | DR1: farmer | DT1: Am-241 | DU1: farmer | DV1: water | DW1: Am-241 | DX1: farmer | DY1: soil | DZ1: Am-241 | EA1: farmer | EB1: s&w | EC1: Am-241 | ED1: farmer | EE1: s&w | EF1: Am-241 | EG1: farmer | EI1: Am-241 | EJ1: farmer | EK1: water | EL1: Am-241 | EM1: farmer | EN1: soil | EO1: Am-241 | EP1: farmer | EQ1: s&w | ER1: Am-241 | ES1: farmer | ET1: s&w | EU1: Am-241 | EV1: farmer | EX1: Am-241 | EY1: farmer | EZ1: water | FA1: Am-241 | FB1: farmer | FC1: soil | FD1: Am-241 | FE1: farmer | FF1: s&w | FG1: Am-241 | FH1: farmer | FI1: s&w | FJ1: Am-241 | FK1: farmer | FM1: Am-241 | FN1: farmer | FO1: water | FP1: Am-241 | FQ1: farmer | FR1: soil | FS1: Am-241 | FT1: farmer | FU1: s&w | FV1: Am-241 | FW1: farmer | FX1: s&w | FY1: Am-241 | FZ1: farmer | GB1: Am-241 | GC1: farmer | GD1: water | GE1: Am-241 | GF1: farmer | GG1: soil | GH1: Am-241 | GI1: farmer | GJ1: s&w | GK1: Am-241 | GL1: farmer | GM1: s&w | GN1: Am-241 | GO1: farmer | GQ1: Am-241 | GR1: farmer | GS1: water | GT1: Am-241 | GU1: farmer | GV1: soil | GW1: Am-241 | GX1: farmer | GY1: s&w | GZ1: Am-241 | HA1: farmer | HB1: s&w | HC1: Am-241 | HD1: DCC | HE1: Am-241 | HF1: partitioning
D2: air | E2: DCC | F2: pCi/m^3 | G2: tapwater | H2: DCC | I2: ug/L | J2: soil | K2: DCC | L2: pCi/g | M2: 2-D | N2: resident | O2: pCi/g | P2: 2-D | Q2: resident | R2: pCi/g | S2: 2-D | T2: resident | U2: pCi/g | V2: air | W2: DCC | X2: pCi/m^3 | Y2: air | Z2: DCC | AA2: pCi/m^3 | AB2: soil | AC2: DCC | AD2: DCC | AE2: DCC | AF2: DCC | AG2: DCC | AH2: pCi/g | AI2: indoor | AJ2: worker | AK2: pCi/g | AL2: indoor | AM2: worker | AN2: pCi/g | AO2: indoor | AP2: worker | AQ2: pCi/g | AR2: outdoor | AS2: worker | AT2: pCi/g | AU2: outdoor | AV2: worker | AW2: pCi/g | AX2: outdoor | AY2: worker | AZ2: pCi/g | BA2: composite | BB2: worker | BC2: pCi/g | BD2: composite | BE2: worker | BF2: pCi/g | BG2: composite | BH2: worker | BI2: pCi/g | BJ2: construction | BK2: worker | BL2: pCi/g | BM2: construction | BN2: worker | BO2: pCi/g | BP2: construction | BQ2: worker | BR2: pCi/g | BS2: air | BT2: DCC | BU2: pCi/m^3 | BV2: surface water | BW2: DCC | BX2: ug/L | BY2: soil | BZ2: DCC | CA2: pCi/g | CB2: 2-D | CC2: external | CD2: pCi/g | CE2: 2-D | CF2: external | CG2: pCi/g | CH2: 2-D | CI2: external | CJ2: pCi/g | CK2: direct ing | CM2: pCi/g | CN2: soil | CP2: pCi/g | CQ2: water | CS2: pCi/g | CT2: soil | CU2: DCC | CV2: pCi/g | CW2: air | CX2: DCC | CY2: pCi/m^3 | CZ2: tapwater | DA2: DCC | DB2: mg/kg | DC2: produce | DD2: DCC | DE2: mg/kg | DF2: produce | DG2: DCC | DH2: mg/L | DI2: produce | DJ2: DCC | DK2: mg/L | DL2: produce | DM2: INT | DN2: mg/L | DO2: produce | DP2: SLOPE | DQ2: mg/L | DR2: milk | DS2: DCC | DT2: mg/kg | DU2: milk | DV2: DCC | DW2: mg/L | DX2: milk | DY2: DCC | DZ2: mg/L | EA2: milk | EB2: INT | EC2: mg/L | ED2: milk | EE2: SLOPE | EF2: mg/L | EG2: beef | EH2: DCC | EI2: mg/kg | EJ2: beef | EK2: DCC | EL2: mg/L | EM2: beef | EN2: DCC | EO2: mg/L | EP2: beef | EQ2: INT | ER2: mg/L | ES2: beef | ET2: SLOPE | EU2: mg/L | EV2: egg | EW2: DCC | EX2: mg/kg | EY2: egg | EZ2: DCC | FA2: mg/L | FB2: egg | FC2: DCC | FD2: mg/L | FE2: egg | FF2: INT | FG2: mg/L | FH2: egg | FI2: SLOPE | FJ2: mg/L | FK2: fish | FL2: DCC | FM2: mg/kg | FN2: fish | FO2: DCC | FP2: mg/L | FQ2: fish | FR2: DCC | FS2: mg/L | FT2: fish | FU2: INT | FV2: mg/L | FW2: fish | FX2: SLOPE | FY2: mg/L | FZ2: poultry | GA2: DCC | GB2: mg/kg | GC2: poultry | GD2: DCC | GE2: mg/L | GF2: poultry | GG2: DCC | GH2: mg/L | GI2: poultry | GJ2: INT | GK2: mg/L | GL2: poultry | GM2: SLOPE | GN2: mg/L | GO2: swine | GP2: DCC | GQ2: mg/kg | GR2: swine | GS2: DCC | GT2: mg/L | GU2: swine | GV2: DCC | GW2: mg/L | GX2: swine | GY2: INT | GZ2: mg/L | HA2: swine | HB2: SLOPE | HC2: mg/L | HD2: pCi/g | HE2: resident | HF2: Soil 2 gw
D3: no decay | E3: =1/((1/E20)+(1/E21)) -> 0.0010418753 | H3: =1/((1/H10)+(1/H11)+(1/H12)+(1/H13)) -> 0.002081135 | K3: =1/((1/K14)+(1/K15)+(1/K16+(1/K17))) -> 0.80711134 | M3: DCC 1E-06 | N3: =(N5*N6*N7)/((1-EXP(-N7*N6))*N10*N15*(N9/365)*N13*((N14*N12)+(N16*N11))) -> 82.898986 | P3: DCC 1E-06 | Q3: =(Q5*Q6*Q7)/((1-EXP(-Q7*Q6))*Q10*Q15*(Q9/365)*Q13*((Q14*Q12)+(Q16*Q11))) -> 167.14959 | S3: DCC 1E-06 | T3: =(T5*T6*T7)/((1-EXP(-T7*T6))*T10*T15*(T9/365)*T13*((T14*T12)+(T16*T11))) -> 82.898986 | V3: decay | W3: =1/((1/W18)+(1/W19)) -> 0.001434842 | Y3: decay | Z3: =1/((1/Z18)+(1/Z19)) -> 0.0012913578 | AC3: =1/((1/AC37)+(1/AC38)+(1/AC39)) -> 37.043193 | AD3: =1/((1/AD37)+(1/AD38)+(1/AD39)) -> 77.23852 | AE3: =1/((1/AE37)+(1/AE38)+(1/AE39)) -> 41.159103 | AF3: =1/((1/AF37)+(1/AF38)+(1/AF39)) -> 0.93406061 | AG3: =1/((1/AG37)+(1/AG39)+(1/AG40)) -> 11.307601 | AI3: DCC 1E-06 | AJ3: =(AJ5*AJ6*AJ7)/((1-EXP(-AJ7*AJ6))*AJ10*AJ15*(AJ9/365)*AJ13*((AJ14*AJ12)+(AJ16*AJ11))) -> 301.10614 | AL3: DCC 1E-06 | AM3: =(AM5*AM6*AM7)/((1-EXP(-AM7*AM6))*AM10*AM15*(AM9/365)*AM13*((AM14*AM12)+(AM16*AM11))) -> 607.12162 | AO3: DCC 1E-06 | AP3: =(AP5*AP6*AP7)/((1-EXP(-AP7*AP6))*AP10*AP15*(AP9/365)*AP13*((AP14*AP12)+(AP16*AP11))) -> 301.10614 | AR3: DCC 1E-06 | AS3: =(AS5*AS6*AS7)/((1-EXP(-AS7*AS6))*AS10*AS15*(AS9/365)*AS13*((AS14*AS12)+(AS16*AS11))) -> 133.82495 | AU3: DCC 1E-06 | AV3: =(AV5*AV6*AV7)/((1-EXP(-AV7*AV6))*AV10*AV15*(AV9/365)*AV13*((AV14*AV12)+(AV16*AV11))) -> 269.83183 | AX3: DCC 1E-06 | AY3: =(AY5*AY6*AY7)/((1-EXP(-AY7*AY6))*AY10*AY15*(AY9/365)*AY13*((AY14*AY12)+(AY16*AY11))) -> 133.82495 | BA3: DCC 1E-06 | BB3: =(BB5*BB6*BB7)/((1-EXP(-BB7*BB6))*BB10*BB15*(BB9/365)*BB13*((BB14*BB12)+(BB16*BB11))) -> 120.44246 | BD3: DCC 1E-06 | BE3: =(BE5*BE6*BE7)/((1-EXP(-BE7*BE6))*BE10*BE15*(BE9/365)*BE13*((BE14*BE12)+(BE16*BE11))) -> 242.84865 | BG3: DCC 1E-06 | BH3: =(BH5*BH6*BH7)/((1-EXP(-BH7*BH6))*BH10*BH15*(BH9/365)*BH13*((BH14*BH12)+(BH16*BH11))) -> 120.44246 | BJ3: DCC 1E-06 | BK3: =(BK5*BK6*BK7)/((1-EXP(-BK7*BK6))*BK12*BK16*(BK9/365)*BK14*BK15*BK13) -> 651083.18 | BM3: DCC 1E-06 | BN3: =(BN5*BN6*BN7)/((1-EXP(-BN7*BN6))*BN12*BN16*(BN9/365)*BN14*BN15*BN13) -> 2740500.6 | BP3: DCC 1E-06 | BQ3: =(BQ5*BQ6*BQ7)/((1-EXP(-BQ7*BQ6))*BQ12*BQ16*(BQ9/365)*BQ14*BQ15*BQ13) -> 789736.24 | BS3: no decay | BT3: =1/((1/BT21)+(1/BT22)) -> 0.068817201 | BW3: =1/((1/BW10)+(1/BW12)) -> 300.30013 | BZ3: =1/((1/BZ13)+(1/BZ14)+(1/BZ15)) -> 61.281712 | CB3: DCC 1E-06 | CC3: =(CC5*CC6*CC7)/((1-EXP(-CC7*CC6))*CC10*CC14*(CC9/365)*CC12*(CC13/24)*CC11) -> 17712599 | CE3: DCC 1E-06 | CF3: =(CF5*CF6*CF7)/((1-EXP(-CF7*CF6))*CF10*CF14*(CF9/365)*CF12*(CF13/24)*CF11) -> 74554818 | CH3: DCC 1E-06 | CI3: =(CI5*CI6*CI7)/((1-EXP(-CI7*CI6))*CI10*CI14*(CI9/365)*CI12*(CI13/24)*CI11) -> 21484630 | CK3: DCC | CL3: =CL5/(CL6*CL7*CL8*CL9) -> 18.018018 | CN3: DCC | CO3: =CL3/(CO5*((CO10*CO12*CO13*(CO6+CO7))+(CO11*CO12))) -> 2392.8311 | CQ3: DCC | CR3: =CL3/(CR5*CR6*(1/CR7)) -> 3003003 | CU3: =1/((1/CU14)+(1/CU15)+(1/CU16+(1/CU17))) -> 0.19393179 | CW3: no decay | CX3: =1/((1/CX20)+(1/CX21)) -> 0.00099638802 | DA3: =1/((1/DA13)+(1/DA14)+(1/DA15)+(1/DA16)) -> 0.0019894836 | DD3: =DD7 -> 0.050953532 | DE3: correct | DG3: =DD7/((1/DG24)*(DG5+DG6+DG7)) -> 4.0030698 | DH3: correct | DJ3: =DD7/(DJ5+DJ6) -> 0.19593744 | DK3: correct | DM3: =(DD7)/(DM5+DM6) -> 0.19593744 | DP3: =-(DP5+DP6+DP7)/(DP23+DP24) -> -49.753026 | DS3: =DS7 -> 0.0068805201 | DT3: correct | DV3: =DS7/(DV5*DV6) -> 37.394131 | DY3: =DS7/(DY9*((DY10*DY12*DY13*(DY5+DY6))+(DY11*DY12))) -> 726.34492 | DZ3: correct | EB3: =DS7/(EB9*((EB10*EB12*EB13*(EB5+EB6))+(EB11*EB12))) -> 726.34492 | EE3: =-EE15/((EE10*EE12*EE13*(EE5+EE6))+(EE11*EE12)) -> -19.424035 | EH3: =EH7 -> 0.032490292 | EI3: correct | EK3: =EH7/(EK5*EK6) -> 12.260487 | EN3: =EH7/(EN9*((EN10*EN12*EN13*(EN5+EN6))+(EN11*EN12))) -> 190.94414 | EO3: correct | EQ3: =EH7/(EQ9*((EQ10*EQ12*EQ13*(EQ5+EQ6))+(EQ11*EQ12))) -> 190.94414 | ET3: =-ET15/((ET10*ET12*ET13*(ET5+ET6))+(ET11*ET12)) -> -15.573944 | EW3: =EW7 -> 0.10832178 | EX3: correct | EZ3: =EW7/(EZ5*EZ6*(1/EZ7)) -> 67701.115 | FC3: =EW7/(FC9*((FC10*FC12*FC13*(FC5+FC6))+(FC11*FC12))) -> 370.96501 | FD3: correct | FF3: =EW7/(FF9*(FF10*FF12*FF13*(FF5*FF6))+(FF11*FF12)) -> 4.9234937 | FI3: =FI15/((FI10*FI12*FI13*(FI5+FI6))+(FI11*FI12)) -> 5.4794521 | FL3: =FL7 -> 0.035328814 | FO3: =FL7/(FR5*(1/FO7)) -> 1.1776271 | FR3: =(FL7*FR6)/FR5 -> 0.0096565426 | FU3: =(FL7*FU15)/FU14 -> 0.0096565426 | FX3: =-FX29/FX30 -> -0.0082 | GA3: =GA7 -> 0.045197768 | GB3: correct | GD3: =FL7/(GD5*GD6*(1/GD7)) -> 14720.339 | GG3: =GA7/((GG9)*((GG10*GG12*GG13*(GG5+GG6))+(GG11*GG12))) -> 103.19125 | GH3: correct | GJ3: =FL7/(GJ9*(GJ10*GJ12*GJ13*(GJ5*GJ6))+(GJ11*GJ12)) -> 1.6057457 | GM3: =GM15/((GM10*GM12*GM13*(GM5+GM6))+(GM11*GM12)) -> 5.4794521 | GP3: =GP7 -> 0.058186061 | GQ3: correct | GS3: =GP7/(GS5*GS6*(1/GS7)) -> 30023.768 | GV3: =GP7/((GV9)*((GV10*GV12*GV13*(GV5+GV6))+(GV11*GV12))) -> 218.21546 | GW3: correct | GY3: =GP7/((GY9*((GY10*GY12*GY13*(GY5+GY6))+(GY11*GY12)))) -> 218.21546 | HB3: =GP7/((HB10*HB12*HB13*(HB5+HB6))+(HB11*HB12)) -> 0.037096628 | HD3: =HE5*HE13*10^-3*(HE14+(HE9/HE10))*((HE11*HE7)/(1-EXP(-HE7*HE11))) -> 1.2864589 | HF3: mcl based
D4: decay | E4: =1/((1/E22)+(1/E23)) -> 0.0010427112 | J4: Am-241 | K4: resident | V4: no decay | W4: =1/((1/W16)+(1/W17)) -> 0.0014336917 | Y4: no decay | Z4: =1/((1/Z16)+(1/Z17)) -> 0.0012903226 | AB4: Am-241 | AC4: composite worker | AD4: indoor worker | AE4: outdoor worker | AF4: construction worker | AG4: construction worker | AI4: 2-D | AL4: 2-D | AO4: 2-D | AR4: 2-D | AU4: 2-D | AX4: 2-D | BA4: 2-D | BD4: 2-D | BG4: 2-D | BJ4: 2-D | BM4: 2-D | BP4: 2-D | BS4: decay | BT4: =1/((1/BT23)+(1/BT24)) -> 0.070262302 | BY4: Am-241 | BZ4: resident | CT4: Am-241 | CU4: farmer | CW4: decay | CX4: =1/((1/CX22)+(1/CX23)) -> 0.00099718742 | FL4: correct | FR4: correct | HD4: =HE6*HE13*10^-3*(HE14+(HE9/HE10))*((HE11*HE7)/(1-EXP(-HE7*HE11))) -> 0.00017848631 | HF4: risk based
A5: DCF inh | B5: 0.155 | C5: mrem/pCi | D5: DL | E5: 1 | F5: (mrem) | G5: DL | H5: 1 | I5: (mrem) | J5: DL | K5: 1 | L5: (mrem) | M5: DL | N5: 1 | O5: (mrem) | P5: DL | Q5: 1 | R5: (mrem) | S5: DL | T5: 1 | U5: (mrem) | V5: DL | W5: 1 | X5: (mrem) | Y5: DL | Z5: 1 | AA5: (mrem) | AB5: DL | AC5: 1 | AD5: 1 | AE5: 1 | AF5: 1 | AG5: 1 | AH5: (mrem) | AI5: DL | AJ5: 1 | AK5: (mrem) | AL5: DL | AM5: 1 | AN5: (mrem) | AO5: DL | AP5: 1 | AQ5: (mrem) | AR5: DL | AS5: 1 | AT5: (mrem) | AU5: DL | AV5: 1 | AW5: (mrem) | AX5: DL | AY5: 1 | AZ5: (mrem) | BA5: DL | BB5: 1 | BC5: (mrem) | BD5: DL | BE5: 1 | BF5: (mrem) | BG5: DL | BH5: 1 | BI5: (mrem) | BJ5: DL | BK5: 1 | BL5: (mrem) | BM5: DL | BN5: 1 | BO5: (mrem) | BP5: DL | BQ5: 1 | BR5: (mrem) | BS5: DL | BT5: 1 | BU5: (mrem) | BV5: DL | BW5: 1 | BX5: (mrem) | BY5: DL | BZ5: 1 | CA5: (mrem) | CB5: DL | CC5: 1 | CD5: (mrem) | CE5: DL | CF5: 1 | CG5: (mrem) | CH5: DL | CI5: 1 | CJ5: (mrem) | CK5: DL | CL5: 1 | CM5: (mrem) | CN5: TF fowl | CO5: =B29 -> 0.006 | CP5: (mrem) | CQ5: TF fowl | CR5: =CO5 -> 0.006 | CS5: (mrem) | CT5: DL | CU5: 1 | CV5: (mrem) | CW5: DL | CX5: 1 | CY5: (mrem) | CZ5: DL | DA5: 1 | DB5: (mrem) | DC5: DL | DD5: 1 | DE5: (mrem) | DF5: Irr rup | DG5: =(DG8*DG9*DG10*((1-EXP(-DG11*DG12))))/(DG13*DG11) -> 0.0017470612 | DH5: L/kg | DI5: R upv | DJ5: =DJ7 -> 5e-05 | DL5: R upv | DM5: =DM7 -> 5e-05 | DO5: Irr rup | DP5: =(DP8*DP9*DP10*((1-EXP(-DP11*DP12))))/(DP13*DP11) -> 0.0017873205 | DQ5: L/kg | DR5: DL | DS5: 1 | DT5: (mrem) | DU5: TFm | DV5: =B23 -> 2e-06 | DX5: R upp | DY5: =DY7 -> 0.006 | EA5: R upp | EB5: =EB7 -> 0.006 | ED5: R upp | EE5: =EE7 -> 0.006 | EG5: DL | EH5: 1 | EI5: (mrem) | EJ5: TF b | EK5: =B24 -> 5e-05 | EM5: R upp | EN5: =EN7 -> 0.006 | EP5: R upp | EQ5: =EQ7 -> 0.006 | ES5: R upp | ET5: =ET7 -> 0.006 | EV5: DL | EW5: 1 | EX5: (mrem) | EY5: TF egg | EZ5: =B26 -> 0.004 | FB5: R upp | FC5: =FC7 -> 0.005 | FE5: R upp | FF5: =FF7 -> 0.005 | FH5: R upp | FI5: =FI7 -> 0.005 | FK5: DL | FL5: 1 | FM5: (mrem) | FN5: TF fish | FO5: 1 | FQ5: BCF | FR5: =B22 -> 30 | FT5: R upp | FU5: =FU7 -> 0.2 | FW5: R upp | FX5: =FX7 -> 0.2 | FZ5: DL | GA5: 1 | GB5: (mrem) | GC5: TF po | GD5: =B25 -> 0.006 | GF5: R upp | GG5: =GG7 -> 0.005 | GI5: R upp | GJ5: =GJ7 -> 0.005 | GL5: R upp | GM5: =GM7 -> 0.005 | GO5: DL | GP5: 1 | GQ5: (mrem) | GR5: TF sw | GS5: =B27 -> 0.00017 | GU5: R upp | GV5: =GV7 -> 0.005 | GX5: R upp | GY5: =GY7 -> 0.005 | HA5: R upp | HB5: =HB7 -> 0.005 | HD5: MCL | HE5: 15 | HF5: pCi/L
A6: DCF water | B6: 0.00074 | C6: mrem/pCi | D6: lambda | E6: =0.693/E7 -> 0.0016041667 | G6: DCF water | H6: =B6 -> 0.00074 | I6: mrem/pCi | J6: DCF soil | K6: =B7 -> 0.00074 | L6: mrem/pCi | M6: t | N6: 26 | O6: yr | P6: t | Q6: 26 | R6: yr | S6: t | T6: 26 | U6: yr | V6: lambda | W6: =0.693/W7 -> 0.0016041667 | Y6: lambda | Z6: =0.693/Z7 -> 0.0016041667 | AC6: 1000 | AD6: 1000 | AE6: 1000 | AF6: 1000 | AG6: 1000 | AH6: g/mg | AI6: t | AJ6: 25 | AK6: yr | AL6: t | AM6: 25 | AN6: yr | AO6: t | AP6: 25 | AQ6: yr | AR6: t | AS6: 25 | AT6: yr | AU6: t | AV6: 25 | AW6: yr | AX6: t | AY6: 25 | AZ6: yr | BA6: t | BB6: 25 | BC6: yr | BD6: t | BE6: 25 | BF6: yr | BG6: t | BH6: 25 | BI6: yr | BJ6: t | BK6: 1 | BL6: yr | BM6: t | BN6: 1 | BO6: yr | BP6: t | BQ6: 1 | BR6: yr | BS6: lambda | BT6: =0.693/BT7 -> 0.0016041667 | BV6: DCF water | BW6: =H6 -> 0.00074 | BX6: mrem/pCi | BY6: DCF soil | BZ6: =B7 -> 0.00074 | CA6: mrem/pCi | CB6: t | CC6: 26 | CD6: yr | CE6: t | CF6: 26 | CG6: yr | CH6: t | CI6: 26 | CJ6: yr | CK6: DCF food | CL6: =E35 -> 0.00074 | CM6: pCi/g | CN6: R upp | CO6: =CO8 -> 0.005 | CQ6: Q w-fowl | CR6: 1 | CS6: L/day | CT6: DCF soil | CU6: =B7 -> 0.00074 | CV6: mrem/pCi | CW6: lambda | CX6: =0.693/CX7 -> 0.0016041667 | CZ6: DCF water | DA6: =B6 -> 0.00074 | DB6: mrem/pCi | DC6: DCF food | DD6: =B16 -> 0.00074 | DE6: mrem/pCi | DF6: Irr res | DG6: =(DG8*DG9*DG14*((1-EXP(-DG11*DG12))))/(DG13*DG11) -> 9.0847184 | DH6: L/kg | DI6: R es | DJ6: =DJ8 -> 0.26 | DL6: R es | DM6: =DM8 -> 0.26 | DO6: Irr res | DP6: =(DP8*DP9*DP14*((1-EXP(-DP11*DP12))))/(DP13*DP11) -> 9.2940668 | DQ6: L/kg | DR6: DCF food | DS6: =B16 -> 0.00074 | DT6: mrem/pCi | DU6: Q w dairy | DV6: 92 | DW6: L/day | DX6: R es | DY6: =DY8 -> 0.25 | EA6: R es | EB6: =EB8 -> 0.25 | ED6: R es | EE6: =EE8 -> 0.25 | EG6: DCF food | EH6: =B16 -> 0.00074 | EI6: mrem/pCi | EJ6: Q w beef | EK6: 53 | EL6: L/day | EM6: R es | EN6: =EN8 -> 0.25 | EP6: R es | EQ6: =EQ8 -> 0.25 | ES6: R es | ET6: =ET8 -> 0.25 | EV6: DCF food | EW6: =B16 -> 0.00074 | EX6: mrem/pCi | EY6: Q w egg | EZ6: 0.4 | FA6: L/day | FB6: R es | FC6: =FC8 -> 0.25 | FE6: R es | FF6: =FF8 -> 0.25 | FH6: R es | FI6: =FI8 -> 0.25 | FK6: DCF food | FL6: =B16 -> 0.00074 | FM6: mrem/pCi | FN6: Q w fish | FO6: 1 | FP6: L/day | FQ6: kd | FR6: 8.2 | FT6: R es | FU6: =FU8 -> 0.25 | FW6: R es | FX6: =FX8 -> 0.25 | FZ6: DCF food | GA6: =B16 -> 0.00074 | GB6: mrem/pCi | GC6: Q w po | GD6: 0.4 | GE6: L/day | GF6: R es | GG6: =GG8 -> 0.25 | GI6: R es | GJ6: =GJ8 -> 0.25 | GL6: R es | GM6: =GM8 -> 0.25 | GO6: DCF food | GP6: =B16 -> 0.00074 | GQ6: mrem/pCi | GR6: Q w swine | GS6: 11.4 | GT6: L/day | GU6: R es | GV6: =GV8 -> 0.25 | GX6: R es | GY6: =GY8 -> 0.25 | HA6: R es | HB6: =HB8 -> 0.25 | HD6: DCC | HE6: =H3 -> 0.002081135 | HF6: pCi/L
A7: DCF soil | B7: 0.00074 | C7: mrem/pCi | D7: HL (TR) | E7: =B17 -> 432 | F7: years | G7: DCF inh | H7: =B5 -> 0.155 | I7: mrem/pCi | J7: DCF inh | K7: =B5 -> 0.155 | L7: mrem/pCi | M7: lambda | N7: =0.693/N8 -> 0.0016041667 | P7: lambda | Q7: =0.693/Q8 -> 0.0016041667 | S7: lambda | T7: =0.693/T8 -> 0.0016041667 | V7: HL (TR) | W7: =B17 -> 432 | X7: years | Y7: HL (TR) | Z7: =B17 -> 432 | AA7: years | AI7: lambda | AJ7: =0.693/AJ8 -> 0.0016041667 | AL7: lambda | AM7: =0.693/AM8 -> 0.0016041667 | AO7: lambda | AP7: =0.693/AP8 -> 0.0016041667 | AR7: lambda | AS7: =0.693/AS8 -> 0.0016041667 | AU7: lambda | AV7: =0.693/AV8 -> 0.0016041667 | AX7: lambda | AY7: =0.693/AY8 -> 0.0016041667 | BA7: lambda | BB7: =0.693/BB8 -> 0.0016041667 | BD7: lambda | BE7: =0.693/BE8 -> 0.0016041667 | BG7: lambda | BH7: =0.693/BH8 -> 0.0016041667 | BJ7: lambda | BK7: =0.693/BK8 -> 0.0016041667 | BM7: lambda | BN7: =0.693/BN8 -> 0.0016041667 | BP7: lambda | BQ7: =0.693/BQ8 -> 0.0016041667 | BS7: HL (TR) | BT7: =B17 -> 432 | BU7: years | BV7: DCF inh | BW7: =E10 -> 0.155 | BX7: mrem/pCi | BY7: DCF inh | BZ7: =B5 -> 0.155 | CA7: mrem/pCi | CB7: lambda | CC7: =0.693/CC8 -> 0.0016041667 | CE7: lambda | CF7: =0.693/CF8 -> 0.0016041667 | CH7: lambda | CI7: =0.693/CI8 -> 0.0016041667 | CK7: EF rec | CL7: 75 | CM7: day/year | CN7: R es | CO7: =CO9 -> 0.25 | CR7: 1000 | CS7: g | CT7: DCF inh | CU7: =B5 -> 0.155 | CV7: mrem/pCi | CW7: HL (TR) | CX7: =B17 -> 432 | CY7: years | CZ7: DCF inh | DA7: =B5 -> 0.155 | DB7: mrem/pCi | DC7: DCC-ing | DD7: =(DD5)/(DD6*(DD8+DD11)*DD21) -> 0.050953532 | DE7: pCi/g | DF7: Irr dep | DG7: =(DG8*DG9*DG15*DG21*((1-EXP(-DG16*DG17))))/(DG18*DG16) -> 3.6421489 | DH7: L/kg | DI7: Bv wet | DJ7: =B28 -> 5e-05 | DL7: Bv wet | DM7: =B28 -> 5e-05 | DO7: Irr dep | DP7: =(DP8*DP9*DP15*DP21*((1-EXP(-DP16*DP17))))/(DP18*DP16) -> 3.6424203 | DQ7: L/kg | DR7: DCC-ing | DS7: =DS5/(DS6*DS8*DS17) -> 0.0068805201 | DT7: pCi/g | DX7: Bv dry | DY7: =B29 -> 0.006 | EA7: Bv dry | EB7: =B29 -> 0.006 | ED7: Bv dry | EE7: =B29 -> 0.006 | EG7: DCC-ing | EH7: =EH5/(EH6*EH8*EH17) -> 0.032490292 | EI7: pCi/g | EM7: Bv dry | EN7: =B29 -> 0.006 | EP7: Bv dry | EQ7: =B29 -> 0.006 | ES7: Bv dry | ET7: =B29 -> 0.006 | EV7: DCC-ing | EW7: =EW5/(EW6*EW8*EW17) -> 0.10832178 | EX7: pCi/g | EZ7: 1000 | FA7: g | FB7: Bv dry | FC7: 0.005 | FE7: Bv dry | FF7: 0.005 | FH7: Bv dry | FI7: 0.005 | FK7: DCC-ing | FL7: =FL5/(FL6*FL8*FL17) -> 0.035328814 | FM7: pCi/g | FO7: 1000 | FP7: g | FT7: Bv dry | FU7: 0.2 | FW7: Bv dry | FX7: 0.2 | FZ7: DCC-ing | GA7: =GA5/(GA6*GA8*GA17) -> 0.045197768 | GB7: pCi/g | GD7: 1000 | GE7: g | GF7: Bv dry | GG7: 0.005 | GI7: Bv dry | GJ7: 0.005 | GL7: Bv dry | GM7: 0.005 | GO7: DCC-ing | GP7: =GP5/(GP6*GP8*GP16) -> 0.058186061 | GQ7: pCi/g | GS7: 1000 | GT7: g | GU7: Bv dry | GV7: 0.005 | GX7: Bv dry | GY7: 0.005 | HA7: Bv dry | HB7: 0.005 | HD7: lambda | HE7: =0.693/HE8 -> 0.0016041667
A8: DCF soil work | B8: 0.00074 | C8: mrem/pCi | D8: EF | E8: 350 | F8: day/yr | G8: DCF-imm | H8: =B15 -> 1.8e-07 | I8: mrem/pCi | J8: DCF ext | K8: =B9 -> 0.0371 | L8: mrem/yr per pCi/g | M8: HL (TR) | N8: =B17 -> 432 | O8: years | P8: HL (TR) | Q8: =B17 -> 432 | R8: years | S8: HL (TR) | T8: =B17 -> 432 | U8: years | V8: EF | W8: 225 | X8: day/yr | Y8: EF | Z8: 250 | AA8: day/yr | AB8: EF iw | AC8: 250 | AD8: 250 | AE8: 225 | AF8: =AF12*AF13 -> 250 | AG8: =AG12*AG13 -> 250 | AH8: days/year | AI8: HL (TR) | AJ8: =B17 -> 432 | AK8: years | AL8: HL (TR) | AM8: =B17 -> 432 | AN8: years | AO8: HL (TR) | AP8: =B17 -> 432 | AQ8: years | AR8: HL (TR) | AS8: =B17 -> 432 | AT8: years | AU8: HL (TR) | AV8: =B17 -> 432 | AW8: years | AX8: HL (TR) | AY8: =B17 -> 432 | AZ8: years | BA8: HL (TR) | BB8: =B17 -> 432 | BC8: years | BD8: HL (TR) | BE8: =B17 -> 432 | BF8: years | BG8: HL (TR) | BH8: =B17 -> 432 | BI8: years | BJ8: HL (TR) | BK8: =B17 -> 432 | BL8: years | BM8: HL (TR) | BN8: =B17 -> 432 | BO8: years | BP8: HL (TR) | BQ8: =B17 -> 432 | BR8: years | BS8: EF | BT8: 75 | BU8: day/yr | BV8: DCF-imm | BW8: =H8 -> 1.8e-07 | BX8: mrem/pCi | BY8: DCF ext | BZ8: =B9 -> 0.0371 | CA8: mrem/yr per pCi/g | CB8: HL (TR) | CC8: =B17 -> 432 | CD8: years | CE8: HL (TR) | CF8: =B17 -> 432 | CG8: years | CH8: HL (TR) | CI8: =B17 -> 432 | CJ8: years | CK8: ED rec | CL8: 1 | CM8: year | CN8: Bv dry | CO8: =B31 -> 0.005 | CT8: DCF ext | CU8: =B9 -> 0.0371 | CV8: mrem/yr per pCi/g | CW8: EF | CX8: 350 | CY8: day/yr | CZ8: DCF imm | DA8: =B15 -> 1.8e-07 | DB8: mrem/pCi | DC8: IFV fr adj | DD8: =(DD9*DD15*DD16*DD22)+(DD10*DD14*DD17*DD23) -> 9024.75 | DE8: g | DF8: Ir | DG8: 3.62 | DH8: L/m^2-day | DI8: MLF p | DJ8: 0.26 | DL8: MLF p | DM8: 0.26 | DO8: Ir | DP8: 3.62 | DQ8: L/m^2-day | DR8: IFD adj | DS8: =(DS11*DS13*DS9*DS19)+(DS12*DS14*DS10*DS20) -> 196402.5 | DT8: g | DX8: MLF p | DY8: 0.25 | EA8: MLF p | EB8: 0.25 | ED8: MLF p | EE8: 0.25 | EG8: IFB adj | EH8: =(EH13*EH11*EH9*EH19)+(EH14*EH12*EH10*EH20) -> 41592.466 | EI8: g | EM8: MLF p | EN8: 0.25 | EP8: MLF p | EQ8: 0.25 | ES8: MLF p | ET8: 0.25 | EV8: IFE adj | EW8: =(EW11*EW13*EW9*EW19)+(EW12*EW14*EW10*EW20) -> 12475.342 | EX8: g | FB8: MLF egg | FC8: 0.25 | FE8: MLF egg | FF8: 0.25 | FH8: MLF egg | FI8: 0.25 | FK8: IRFI f-adj | FL8: =(FL13*FL9*FL11*FL19)+(FL14*FL10*FL12*FL20) -> 38250.685 | FM8: g | FT8: MLF fi | FU8: 0.25 | FW8: MLF fi | FX8: 0.25 | FZ8: IFP f-adj | GA8: =(GA11*GA9*GA13*GA19)+(GA14*GA10*GA12*GA20) -> 29898.63 | GB8: g | GF8: MLF po | GG8: 0.25 | GI8: MLF po | GJ8: 0.25 | GL8: MLF po | GM8: 0.25 | GO8: IFSW f-adj | GP8: =(GP13*GP9*GP11*GP18)+(GP14*GP10*GP12*GP19) -> 23224.658 | GQ8: g | GU8: MLF sw | GV8: 0.25 | GX8: MLF sw | GY8: 0.25 | HA8: MLF sw | HB8: 0.25 | HD8: HL (TR) | HE8: =B17 -> 432 | HF8: years
A9: DCF ext sv | B9: 0.0371 | C9: mrem/yr per pCi/g | D9: ED | E9: 1 | F9: yr | G9: DCF food | H9: =B16 -> 0.00074 | I9: mrem/pCi | J9: DCF food | K9: =B16 -> 0.00074 | L9: mrem/pCi | M9: EF | N9: 350 | O9: day/yr | P9: EF | Q9: 350 | R9: day/yr | S9: EF | T9: 350 | U9: day/yr | V9: ED | W9: 1 | X9: yr | Y9: ED | Z9: 1 | AA9: yr | AB9: DCF soil | AC9: =B8 -> 0.00074 | AD9: =B8 -> 0.00074 | AE9: =B8 -> 0.00074 | AF9: =B8 -> 0.00074 | AG9: =B8 -> 0.00074 | AH9: mrem/pCi | AI9: EF | AJ9: 250 | AK9: day/yr | AL9: EF | AM9: 250 | AN9: day/yr | AO9: EF | AP9: 250 | AQ9: day/yr | AR9: EF | AS9: 225 | AT9: day/yr | AU9: EF | AV9: 225 | AW9: day/yr | AX9: EF | AY9: 225 | AZ9: day/yr | BA9: EF | BB9: 250 | BC9: day/yr | BD9: EF | BE9: 250 | BF9: day/yr | BG9: EF | BH9: 250 | BI9: day/yr | BJ9: EF | BK9: =BK10*BK11 -> 250 | BL9: day/yr | BM9: EF | BN9: =BN10*BN11 -> 250 | BO9: day/yr | BP9: EF | BQ9: =BQ10*BQ11 -> 250 | BR9: day/yr | BS9: ED | BT9: 1 | BU9: yr | BV9: DCF food | BW9: =E35 -> 0.00074 | BX9: mrem/pCi | BY9: PEF | BZ9: =B18 -> 1.3593445e+09 | CA9: m^3/kg | CB9: EF | CC9: 75 | CD9: day/yr | CE9: EF | CF9: 75 | CG9: day/yr | CH9: EF | CI9: 75 | CJ9: day/yr | CK9: IRGF rec | CL9: 1 | CM9: g/day | CN9: MLF fowl | CO9: 0.25 | CT9: DCF food | CU9: =B16 -> 0.00074 | CV9: mrem/pCi | CW9: ED | CX9: 1 | CY9: yr | CZ9: DCF food | DA9: =B16 -> 0.00074 | DB9: mrem/pCi | DC9: IRV fr-c | DD9: =B42 -> 10.4 | DE9: g/day | DF9: F | DG9: 0.25 | DH9: unitless | DO9: F | DP9: 0.25 | DQ9: unitless | DR9: IRD c | DS9: =B45 -> 256 | DT9: g/day | DX9: TFm | DY9: =B23 -> 2e-06 | EA9: TFm | EB9: =B23 -> 2e-06 | ED9: TFm | EE9: =B23 -> 2e-06 | EG9: IRB c | EH9: =4.7*1000/365 -> 12.876712 | EI9: g/day | EM9: TF b | EN9: =B24 -> 5e-05 | EP9: TF b | EQ9: =B24 -> 5e-05 | ES9: TF b | ET9: =B24 -> 5e-05 | EV9: IRE c | EW9: =2.3*1000/365 -> 6.3013699 | EX9: g/day | FB9: TF egg | FC9: =B26 -> 0.004 | FE9: TF egg | FF9: =B26 -> 0.004 | FH9: TF egg | FI9: =B26 -> 0.004 | FK9: IRFIc | FL9: =6.4*1000/365 -> 17.534247 | FM9: g/day | FT9: TF fish | FU9: 1 | FW9: TF fish | FX9: 1 | FZ9: IRPc | GA9: =5*1000/365 -> 13.69863 | GB9: g/day | GF9: TF po | GG9: =B25 -> 0.006 | GI9: TF po | GJ9: =B25 -> 0.006 | GL9: TF po | GM9: =B25 -> 0.006 | GO9: IRSW c | GP9: =4.5*1000/365 -> 12.328767 | GQ9: g/day | GU9: TF sw | GV9: =B27 -> 0.00017 | GX9: TF sw | GY9: =B27 -> 0.00017 | HA9: TF sw | HB9: =B27 -> 0.00017 | HD9: θw = | HE9: 0.3
A10: DCF ext gp | B10: 0.0272 | C10: mrem/yr per pCi/cm2 | D10: DCF inh | E10: =B5 -> 0.155 | F10: mrem/pCi | G10: DCC-ing | H10: =H5/(H6*H15) -> 1.8358833 | I10: ug/L | J10: PEF | K10: =B18 -> 1.3593445e+09 | L10: m^3/kg | M10: ED | N10: 1 | O10: yr | P10: ED | Q10: 1 | R10: yr | S10: ED | T10: 1 | U10: yr | V10: DCF inh | W10: =B5 -> 0.155 | X10: (mg/m^3)^-1 | Y10: DCF inh | Z10: =B5 -> 0.155 | AA10: (mg/m^3)^-1 | AI10: ED | AJ10: 1 | AK10: yr | AL10: ED | AM10: 1 | AN10: yr | AO10: ED | AP10: 1 | AQ10: yr | AR10: ED | AS10: 1 | AT10: yr | AU10: ED | AV10: 1 | AW10: yr | AX10: ED | AY10: 1 | AZ10: yr | BA10: ED | BB10: 1 | BC10: yr | BD10: ED | BE10: 1 | BF10: yr | BG10: ED | BH10: 1 | BI10: yr | BJ10: EW | BK10: 50 | BL10: wk/yr | BM10: EW | BN10: 50 | BO10: wk/yr | BP10: EW | BQ10: 50 | BR10: wk/yr | BS10: DCF inh | BT10: =E10 -> 0.155 | BU10: mrem/pCi | BV10: DCC-ing | BW10: =BW5/(BW6*BW13) -> 300.3003 | BX10: ug/L | BY10: decay | BZ10: =(BZ33*BZ11)/(1-EXP(-BZ11*BZ33)) -> 1.0209991 | CB10: ED | CC10: 1 | CD10: yr | CE10: ED | CF10: 1 | CG10: yr | CH10: ED | CI10: 1 | CJ10: yr | CN10: Q p-fowl | CO10: 1 | CP10: kg/day | CT10: PEF | CU10: =B18 -> 1.3593445e+09 | CV10: m^3/kg | CW10: DCF inh | CX10: =B5 -> 0.155 | CY10: mrem/pCi | CZ10: decay | DA10: =(DA39*DA11)/(1-EXP(-DA11*DA39)) -> 1.0008023 | DC10: IRV fr-a | DD10: =B43 -> 28.5 | DE10: g/day | DF10: Bv wet | DG10: =B28 -> 5e-05 | DO10: Bv wet | DP10: =B28 -> 5e-05 | DR10: IRD a | DS10: =B46 -> 615 | DT10: g/day | DX10: Q p-m | DY10: 16.9 | EA10: Q p-m | EB10: 16.9 | ED10: Q p-m | EE10: 16.9 | EG10: IRB a | EH10: =50.2*1000/365 -> 137.53425 | EI10: g/day | EM10: Q p-b | EN10: 11.77 | EP10: Q p-b | EQ10: 11.77 | ES10: Q p-b | ET10: 11.77 | EV10: IRE a | EW10: =14.9*1000/365 -> 40.821918 | EX10: g/day | FB10: Q p-egg | FC10: 0.2 | FE10: Q p-egg | FF10: 0.2 | FH10: Q p-egg | FI10: 0.2 | FK10: IRFIa | FL10: =45.8*1000/365 -> 125.47945 | FM10: g/day | FT10: Q p-fi | FU10: 1 | FW10: Q p-fi | FX10: 1 | FZ10: IRPa | GA10: =35.8*1000/365 -> 98.082192 | GB10: g/day | GF10: Q p-po | GG10: 0.2 | GI10: Q p-po | GJ10: 0.2 | GL10: Q p-po | GM10: 0.2 | GO10: IRSW a | GP10: =27.7*1000/365 -> 75.890411 | GQ10: g/day | GU10: Q p-sw | GV10: 4.7 | GX10: Q p-sw | GY10: 4.7 | HA10: Q p-sw | HB10: 4.7 | HD10: ρb = | HE10: 1.5
A11: DCF ext 1cm | B11: 0.0184 | C11: mrem/yr per pCi/g | D11: IFA adj | E11: =((E14/E15)*E24*E12*E16*E26)+((E14/E15)*E25*E13*E17*E27) -> 6192.3077 | F11: m3 | G11: DCC-inh | H11: =H5/(H7*H16*H28) -> 0.0020837508 | I11: ug/L | J11: decay | K11: =(K45*K12)/(1-EXP(-K12*K45)) -> 1.0209991 | M11: GDCFi | N11: 0.4 | P11: GDCFi | Q11: 0.4 | S11: GDCFi | T11: 0.4 | V11: ET wa | W11: 8 | X11: hrs/day | Y11: ET wa | Z11: 8 | AA11: hrs/day | AB11: ED | AC11: 1 | AD11: 1 | AE11: 1 | AF11: 1 | AG11: 1 | AH11: yrs | AI11: GDCFi | AJ11: 0.4 | AL11: GDCFi | AM11: 0.4 | AO11: GDCFi | AP11: 0.4 | AR11: GDCFi | AS11: 0.4 | AU11: GDCFi | AV11: 0.4 | AX11: GDCFi | AY11: 0.4 | BA11: GDCFi | BB11: 0.4 | BD11: GDCFi | BE11: 0.4 | BG11: GDCFi | BH11: 0.4 | BJ11: DW | BK11: 5 | BL11: d/wk | BM11: DW | BN11: 5 | BO11: d/wk | BP11: DW | BQ11: 5 | BR11: d/wk | BS11: IFA adj | BT11: =(BT25*BT17*BT14*(1/24)*BT12*BT29)+(BT26*BT18*BT15*(1/24)*BT13*BT30) -> 93.75 | BU11: m3 | BV11: DCC-inh | BX11: ug/L | BY11: lambda | BZ11: =0.693/BZ12 -> 0.0016041667 | CB11: GDCFo | CC11: 0.000241 | CE11: GDCFo | CF11: 0.000117 | CH11: GDCFo | CI11: 0.000226 | CN11: Q s-fowl | CO11: 1 | CP11: kg/day | CT11: decay | CU11: =(CU45*CU12)/(1-EXP(-CU12*CU45)) -> 1.0324264 | CW11: IFA adj | CX11: =((CX15/24)*CX24*CX12*CX16*CX26)+((CX14/24)*CX25*CX13*CX17*CX27) -> 6475 | CY11: m3 | CZ11: lambda | DA11: =0.693/DA12 -> 0.0016041667 | DC11: IFF vg adj | DD11: =(DD12*DD15*DD16*DD22)+(DD13*DD14*DD17*DD23) -> 17496.5 | DE11: g | DF11: lambda B | DG11: =DG19+DG20 -> 3.1394977e-05 | DO11: lambda B | DP11: =DP19+DP20 -> 2.7e-05 | DR11: EF c | DS11: 350 | DT11: days/year | DX11: Q s-m | DY11: 0.41 | EA11: Q s-m | EB11: 0.41 | ED11: Q s-m | EE11: 0.41 | EG11: EF c | EH11: 350 | EI11: days/year | EM11: Q s-b | EN11: 0.39 | EP11: Q s-b | EQ11: 0.39 | ES11: Q s-b | ET11: 0.39 | EV11: EF f-c | EW11: 350 | EX11: days/year | FB11: Q s-egg | FC11: 0.022 | FE11: Q s-egg | FF11: 0.022 | FH11: Q s-egg | FI11: 0.022 | FK11: EF f-c | FL11: 350 | FM11: days/year | FT11: Q s-fi | FU11: 1 | FW11: Q s-fi | FX11: 1 | FZ11: EF f-c | GA11: 350 | GB11: days/year | GF11: Q s-po | GG11: 0.022 | GI11: Q s-po | GJ11: 0.022 | GL11: Q s-po | GM11: 0.022 | GO11: EF f-c | GP11: 350 | GQ11: days/year | GU11: Q s-sw | GV11: 0.37 | GX11: Q s-sw | GY11: 0.37 | HA11: Q s-sw | HB11: 0.37 | HD11: t = | HE11: 26
A12: DCF ext 5cm | B12: 0.0345 | C12: mrem/yr per pCi/g | D12: IRA child | E12: =B33 -> 10 | F12: m3/day | G12: DCC-imm | H12: =H5/(H8*(1/H45)*H21) -> 2.0729576e+08 | I12: ug/L | J12: lambda | K12: =0.693/K13 -> 0.0016041667 | M12: GDCFo | N12: 1 | P12: GDCFo | Q12: 1 | S12: GDCFo | T12: 1 | W12: 24 | X12: hrs/day | Z12: 24 | AA12: hrs/day | AB12: DW | AF12: 5 | AG12: 5 | AH12: days/week | AI12: GDCFo | AJ12: 1 | AL12: GDCFo | AM12: 1 | AO12: GDCFo | AP12: 1 | AR12: GDCFo | AS12: 1 | AU12: GDCFo | AV12: 1 | AX12: GDCFo | AY12: 1 | BA12: GDCFo | BB12: 1 | BD12: GDCFo | BE12: 1 | BG12: GDCFo | BH12: 1 | BJ12: ED | BK12: 1 | BL12: yr | BM12: ED | BN12: 1 | BO12: yr | BP12: ED | BQ12: 1 | BR12: yr | BS12: IRA child | BT12: =B33 -> 10 | BU12: m3/day | BV12: DCC-imm | BW12: =BW5/(BW8*(1/BW32)*BW16) -> 5.4074074e+08 | BX12: ug/L | BY12: HL (TR) | BZ12: =B17 -> 432 | CA12: years | CB12: ACF | CC12: 0.753 | CE12: ACF | CF12: 0.743 | CH12: ACF | CI12: 0.662 | CN12: f p-fowl | CO12: 1 | CP12: unitless | CT12: lambda | CU12: =0.693/CU13 -> 0.0016041667 | CW12: IRA child | CX12: =B33 -> 10 | CY12: m3/day | CZ12: HL (TR) | DA12: =B17 -> 432 | DB12: years | DC12: IRF vg-c | DD12: =B40 -> 14.8 | DE12: g/day | DF12: t b | DG12: 10950 | DH12: day | DO12: t b | DP12: 10950 | DQ12: day | DR12: EF a | DS12: 350 | DT12: days/year | DX12: f p-m | DY12: 1 | EA12: f p-m | EB12: 1 | ED12: f p-m | EE12: 1 | EG12: EF a | EH12: 350 | EI12: days/year | EM12: f p-b | EN12: 1 | EP12: f p-b | EQ12: 1 | ES12: f p-b | ET12: 1 | EV12: EF f-a | EW12: 350 | EX12: days/year | FB12: f p-egg | FC12: 1 | FE12: f p-egg | FF12: 1 | FH12: f p-egg | FI12: 1 | FK12: EF f-a | FL12: 350 | FM12: days/year | FT12: f p-fi | FU12: 1 | FW12: f p-fi | FX12: 1 | FZ12: EF f-a | GA12: 350 | GB12: days/year | GF12: f p-po | GG12: 1 | GI12: f p-po | GJ12: 1 | GL12: f p-po | GM12: 1 | GO12: EF f-a | GP12: 350 | GQ12: days/year | GU12: f p-sw | GV12: 1 | GX12: f p-sw | GY12: 1 | HA12: f p-sw | HB12: 1
A13: DCF ext 15 cm | B13: 0.0371 | C13: mrem/yr per pCi/g | D13: IRA adult | E13: =B34 -> 20 | F13: m3/day | G13: DCC-sping | H13: =H14/((1/H42)*(H50+H51+H52)) -> 17.09657 | I13: ug/L | J13: HL (TR) | K13: =B17 -> 432 | L13: years | M13: ACF | N13: 1 | P13: ACF | Q13: =N13 -> 1 | S13: ACF | T13: =N13 -> 1 | V13: IRA ow | W13: =B35 -> 60 | X13: m3/day | Y13: IRA ow | Z13: =B35 -> 60 | AA13: m3/day | AB13: EW | AF13: 50 | AG13: 50 | AH13: wks/yr | AI13: ACF | AJ13: =N13 -> 1 | AL13: ACF | AM13: =Q13 -> 1 | AO13: ACF | AP13: =T13 -> 1 | AR13: ACF | AS13: =AJ13 -> 1 | AU13: ACF | AV13: =AM13 -> 1 | AX13: ACF | AY13: =AP13 -> 1 | BA13: ACF | BB13: 1 | BD13: ACF | BE13: =AV13 -> 1 | BG13: ACF | BH13: =AY13 -> 1 | BJ13: GDCFo | BK13: 0.000241 | BM13: GDCFo | BN13: 0.000117 | BP13: GDCFo | BQ13: 0.000226 | BS13: IRA adult | BT13: =B34 -> 20 | BU13: m3/day | BV13: IFW adj | BW13: =((BW18*BW21*BW23*BW26*BW14*BW33)+(BW19*BW22*BW24*BW27*BW15*BW34)) -> 4.5 | BX13: L | BY13: DCC-ing | BZ13: =(BZ5/(BZ6*BZ16*(1/BZ36)))*BZ10 -> 61.321269 | CA13: pCi/g | CB13: ET rec | CC13: 1 | CD13: hr/day | CE13: ET rec | CF13: 1 | CG13: hr/day | CH13: ET rec | CI13: 1 | CJ13: hr/day | CN13: f s-fowl | CO13: 1 | CP13: unitless | CT13: HL (TR) | CU13: =B17 -> 432 | CV13: years | CW13: IRA adult | CX13: =B34 -> 20 | CY13: m3/day | CZ13: DCC-ing | DA13: =DA5/(DA6*DA24) -> 1.7221248 | DB13: pCi/L | DC13: IRF vg-a | DD13: =B41 -> 56.2 | DE13: g/day | DF13: P | DG13: 240 | DH13: kg/m^2 | DO13: P | DP13: 240 | DQ13: kg/m^2 | DR13: ED fc | DS13: 1 | DT13: years | DX13: f s-m | DY13: 1 | EA13: f s-m | EB13: 1 | ED13: f s-m | EE13: 1 | EG13: ED fc | EH13: 1 | EI13: years | EM13: f s-b | EN13: 1 | EP13: f s-b | EQ13: 1 | ES13: f s-b | ET13: 1 | EV13: ED fc | EW13: 1 | EX13: years | FB13: f s-egg | FC13: 1 | FE13: f s-egg | FF13: 1 | FH13: f s-egg | FI13: 1 | FK13: ED fc | FL13: 1 | FM13: years | FT13: f s-fi | FU13: 1 | FW13: f s-fi | FX13: 1 | FZ13: ED fc | GA13: 1 | GB13: years | GF13: f s-po | GG13: 1 | GI13: f s-po | GJ13: 1 | GL13: f s-po | GM13: 1 | GO13: ED fc | GP13: 1 | GQ13: years | GU13: f s-sw | GV13: 1 | GX13: f s-sw | GY13: 1 | HA13: f s-sw | HB13: 1 | HD13: DAF | HE13: 10
A14: DCF sub | B14: 7.87e-05 | C14: mrem/yr per pCi/g | D14: ET ra | E14: 24 | F14: hrs/day | G14: DCC-ping | H14: =H5/(H9*(H22+H25)*H43) -> 0.21761565 | I14: pCi/g | J14: DCC-ing | K14: =(K5/(K6*K19*(1/K48)))*K11 -> 32.029413 | L14: pCi/g | M14: ET o | N14: 0.073 | O14: hr/hr | P14: ET o | Q14: 0.073 | R14: hr/hr | S14: ET o | T14: 0.073 | U14: hr/hr | V14: DCF sub | W14: =B14 -> 7.87e-05 | X14: risk/yer per pCi/m3 | Y14: DCF sub | Z14: =B14 -> 7.87e-05 | AA14: risk/yer per pCi/m3 | AB14: ET | AF14: 8 | AG14: 8 | AH14: hrs/day | AI14: ET o | AJ14: 0 | AK14: hr/hr | AL14: ET o | AM14: 0 | AN14: hr/hr | AO14: ET o | AP14: 0 | AQ14: hr/hr | AR14: ET o | AS14: =8/24 -> 0.33333333 | AT14: hr/hr | AU14: ET o | AV14: =8/24 -> 0.33333333 | AW14: hr/hr | AX14: ET | AY14: =8/24 -> 0.33333333 | AZ14: hr/day | BA14: ET o | BB14: =8/24 -> 0.33333333 | BC14: hr/hr | BD14: ET o | BE14: =8/24 -> 0.33333333 | BF14: hr/hr | BG14: ET | BH14: =8/24 -> 0.33333333 | BI14: hr/day | BJ14: ACF | BK14: 0.753 | BM14: ACF | BN14: 0.743 | BP14: ACF | BQ14: 0.662 | BS14: ET rec c | BT14: 1 | BU14: hrs/day | BV14: IRW c | BW14: 0.05 | BX14: L/hr | BY14: DCC-inh | BZ14: =(BZ5/(BZ7*BZ17*(1/BZ9)*BZ35))*BZ10 -> 95510.677 | CA14: pCi/g | CB14: DCF ext | CC14: =B9 -> 0.0371 | CD14: (risk/yr per pCi/g) | CE14: DCF ext | CF14: =B11 -> 0.0184 | CG14: (risk/yr per pCi/g) | CH14: DCF ext | CI14: =B13 -> 0.0371 | CJ14: (risk/yr per pCi/g) | CT14: DCC-ing | CU14: =(CU5/(CU6*CU25*(1/CU48)))*CU11 -> 34.66263 | CV14: pCi/g | CW14: ET a | CX14: 24 | CY14: hrs/day | CZ14: DCC-inh | DA14: =DA5/(DA7*DA25*DA47) -> 0.0019927762 | DB14: pCi/L | DC14: EF fa | DD14: 350 | DE14: days/year | DF14: MLF | DG14: 0.26 | DO14: MLF | DP14: 0.26 | DR14: ED fa | DS14: 1 | DT14: years | ED14: MLF | EE14: 0.25 | EG14: ED fa | EH14: 1 | EI14: years | ES14: MLF | ET14: 0.25 | EV14: ED fa | EW14: 1 | EX14: years | FH14: MLF | FI14: 0.25 | FK14: ED fa | FL14: 1 | FM14: years | FT14: BCF | FU14: =B22 -> 30 | FW14: MLF | FX14: 0.25 | FZ14: ED fa | GA14: 1 | GB14: years | GL14: MLF po | GM14: 0.25 | GO14: ED fa | GP14: 1 | GQ14: years | HA14: MLF | HB14: 0.25 | HD14: Kd = | HE14: 8.2
A15: DCF-imm | B15: 1.8e-07 | C15: mrem/pCi | E15: 24 | F15: hrs/day | G15: IFW adj | H15: =(H32*H29*H17*H70)+(H33*H30*H18*H71) -> 736.07692 | I15: L | J15: DCC-inh | K15: =(K5/(K7*K20*(1/K10)*K47))*K11 -> 1446.0079 | L15: pCi/g | M15: DCF ext | N15: =B9 -> 0.0371 | O15: (risk/yr per pCi/g) | P15: DCF ext | Q15: =B11 -> 0.0184 | R15: (risk/yr per pCi/g) | S15: DCF ext | T15: =B13 -> 0.0371 | U15: (risk/yr per pCi/g) | V15: GDCFa | W15: 1 | Y15: GDCFa | Z15: 1 | AB15: ED w | AC15: 1 | AD15: 1 | AE15: 1 | AF15: 1 | AG15: 1 | AI15: DCF ext | AJ15: =B9 -> 0.0371 | AK15: (risk/yr per pCi/g) | AL15: DCF ext | AM15: =B11 -> 0.0184 | AN15: (risk/yr per pCi/g) | AO15: DCF ext | AP15: =B13 -> 0.0371 | AQ15: (risk/yr per pCi/g) | AR15: DCF ext | AS15: =B9 -> 0.0371 | AT15: (risk/yr per pCi/g) | AU15: DCF ext | AV15: =B11 -> 0.0184 | AW15: (risk/yr per pCi/g) | AX15: DCF ext | AY15: =B13 -> 0.0371 | AZ15: (risk/yr per pCi/g) | BA15: DCF ext | BB15: =B9 -> 0.0371 | BC15: (risk/yr per pCi/g) | BD15: DCF ext | BE15: =B11 -> 0.0184 | BF15: (risk/yr per pCi/g) | BG15: DCF ext | BH15: =B13 -> 0.0371 | BI15: (risk/yr per pCi/g) | BJ15: ET o | BK15: =8/24 -> 0.33333333 | BL15: hr/hr | BM15: ET o | BN15: =8/24 -> 0.33333333 | BO15: hr/hr | BP15: ET | BQ15: =8/24 -> 0.33333333 | BR15: hr/day | BS15: ET rec a | BT15: 1 | BU15: hrs/day | BV15: IRW a | BW15: 0.05 | BX15: L/hr | BY15: DCC-ext | BZ15: =((BZ5)/(BZ8*BZ22*(1/BZ34)*BZ25*BZ28*(1/24)*BZ31*BZ32))*BZ10 -> 17712599 | CA15: pCi/g | CT15: DCC-inh | CU15: =(CU5/(CU7*CU26*(1/CU10)*CU47))*CU11 -> 1398.3541 | CV15: pCi/g | CW15: ET c | CX15: 24 | CY15: hrs/day | CZ15: DCC-imm | DA15: =DA5/(DA8*DA26*(DA48/DA49)) -> 2.031375e+08 | DB15: pCi/L | DC15: EF fc | DD15: 350 | DE15: days/year | DF15: I f | DG15: 0.42 | DH15: unitless | DO15: I f | DP15: 0.42 | DQ15: unitless | DR15: ED f | DS15: 1 | DT15: years | ED15: Q w dairy | EE15: 92 | EF15: L/day | EG15: ED f | EH15: 1 | EI15: years | ES15: Q w beef | ET15: 53 | EU15: L/day | EV15: ED f | EW15: 1 | EX15: years | FH15: Q w egg | FI15: 0.4 | FJ15: L/day | FK15: ED f | FL15: 1 | FM15: years | FT15: kd | FU15: 8.2 | FW15: Q w fish | FX15: 1 | FY15: L/day | FZ15: ED f | GA15: 1 | GB15: years | GL15: Q w po | GM15: 0.4 | GN15: L/day | GO15: ED f | GP15: 1 | GQ15: years | HA15: Q w swine | HB15: 11.4 | HC15: L/day
A16: DCF food | B16: 0.00074 | C16: mrem/pCi | D16: ED child | E16: 1 | F16: yr | G16: IFA adj | H16: =(H29*H19*H32*H70)+(H30*H20*H33*H71) -> 6192.3077 | I16: m3 | J16: DCC-ext | K16: =(K5/(K8*K44*((K39*K43*(1/K37))+(K40*K42*(1/K37)))*K32*(1/K46)*K33))*K11 -> 82.803315 | L16: pCi/g | M16: ET i | N16: 0.683 | O16: hr/hr | P16: ET i | Q16: 0.683 | R16: hr/hr | S16: ET i | T16: 0.683 | U16: hr/hr | V16: DCC-inh | W16: =(W5)/((W11/W12)*W8*W9*W10*W13) -> 0.0014336918 | X16: no decay | Y16: DCC-inh | Z16: =(Z5)/((Z11/Z12)*Z8*Z9*Z10*Z13) -> 0.0012903226 | AA16: no decay | AB16: IR iw | AC16: 100 | AD16: 50 | AE16: 100 | AF16: 330 | AG16: 330 | AI16: ET i | AJ16: =8/24 -> 0.33333333 | AK16: hr/hr | AL16: ET i | AM16: =8/24 -> 0.33333333 | AN16: hr/hr | AO16: ET i | AP16: =8/24 -> 0.33333333 | AQ16: hr/hr | AR16: ET i | AS16: 0 | AT16: hr/hr | AU16: ET i | AV16: 0 | AW16: hr/hr | AX16: ET i | AY16: 0 | AZ16: hr/hr | BA16: ET i | BB16: 0 | BC16: hr/hr | BD16: ET i | BE16: 0 | BF16: hr/hr | BG16: ET i | BH16: 0 | BI16: hr/hr | BJ16: DCF ext | BK16: =B9 -> 0.0371 | BL16: (risk/yr per pCi/g) | BM16: DCF ext | BN16: =B11 -> 0.0184 | BO16: (risk/yr per pCi/g) | BP16: DCF ext | BQ16: =B13 -> 0.0371 | BR16: (risk/yr per pCi/g) | BS16: ET rec | BT16: 1 | BU16: hrs/day | BV16: DFA adj | BW16: =((BW18*BW21*BW23*BW26*BW33)+(BW19*BW22*BW24*BW27*BW34)) -> 90 | BX16: hr | BY16: IFS adj | BZ16: =(BZ18*BZ22*BZ27*BZ37)+(BZ19*BZ23*BZ26*BZ38) -> 22500 | CA16: mg | CB16: Recreator | CC16: ground palne | CD16: Am-241 | CE16: Recreator | CF16: 5cm | CG16: Am-241 | CK16: Recreator | CL16: Game | CM16: Am-241 | CN16: Recreator | CO16: Game | CP16: Am-241 | CQ16: Recreator | CR16: Game | CS16: Am-241 | CT16: DCC-ext | CU16: =(CU5/(CU8*CU44*((CU39*CU43*(1/CU37))+(CU40*CU42*(1/CU37)))*CU32*(1/CU46)*CU33))*CU11 -> 43.070411 | CV16: pCi/g | CW16: ED child | CX16: 1 | CY16: yr | CZ16: DCC-wprod | DA16: =DG3 -> 4.0030698 | DB16: pCi/L | DC16: ED fc | DD16: 1 | DE16: years | DF16: lambda E | DG16: =DG20+(0.693/DG22) -> 0.049504395 | DH16: 1/day | DO16: lambda E | DP16: =DP20+(0.693/DP22) -> 0.0495 | DQ16: 1/day | DS16: 1000 | DT16: g/kg | ED16: lambda E | EE16: =EE20+(0.693/EE22) -> 0.0495 | EF16: 1/day | EH16: 1000 | EI16: g/kg | ES16: lambda E | ET16: =ET20+(0.693/ET22) -> 0.0495 | EU16: 1/day | EW16: 1000 | EX16: g/kg | FH16: lambda E | FI16: 0.0495 | FJ16: 1/day | FL16: 1000 | FM16: g/kg | FW16: lambda E | FX16: =FX20+(0.693/FX22) -> 0.0495 | FY16: 1/day | GA16: 1000 | GB16: g/kg | GL16: lambda E | GM16: =GM20+(0.693/GM22) -> 0.0495 | GN16: 1/day | GO16: CF sw | GP16: 1 | HA16: lambda E | HB16: =HB20+(0.693/HB22) -> 0.0495 | HC16: 1/day
A17: HL (TR) | B17: 432 | C17: half life in years | D17: ED adult | E17: 1 | F17: yr | G17: IRW c | H17: =B38 -> 0.78 | J17: DCC-sping | K17: =K18/(K49+K50) -> 0.83682235 | L17: pCi/g | V17: DCC-sub | W17: =(W5)/((W11/W12)*W8*W9*W14*(1/365)) -> 61838.204 | X17: no decay | Y17: DCC-sub | Z17: =(Z5)/((Z11/Z12)*Z8*Z9*Z14*(1/365)) -> 55654.384 | AA17: no decay | BS17: ED child | BT17: 1 | BU17: yr | BV17: K | BW17: 0.5 | BX17: L/m^3 | BY17: IFA adj | BZ17: =(BZ27*BZ24*BZ20*(BZ29/24)*BZ37)+(BZ26*BZ23*BZ21*(BZ30/24)*BZ38) -> 93.75 | CA17: m3 | CB17: 2-D | CC17: external | CD17: pCi/g | CE17: 2-D | CF17: external | CG17: pCi/g | CK17: direct ing | CM17: pCi/g | CN17: soil | CP17: pCi/g | CQ17: water | CS17: pCi/g | CT17: DCC-sping | CU17: =DJ3 -> 0.19593744 | CV17: pCi/g | CW17: ED adult | CX17: 1 | CY17: yr | CZ17: DCC-prod | DA17: =DD3 -> 0.050953532 | DB17: pCi/g | DC17: ED fa | DD17: 1 | DE17: years | DF17: t v | DG17: 60 | DH17: day | DO17: t v | DP17: 60 | DQ17: day | DR17: CF d | DS17: 1 | ED17: t v | EE17: 60 | EF17: day | EG17: CF b | EH17: 1 | ES17: t v | ET17: 60 | EU17: day | EV17: CF e | EW17: 1 | FH17: t v | FI17: 60 | FJ17: day | FK17: CF fi | FL17: 1 | FW17: t v | FX17: 60 | FY17: day | FZ17: CF p | GA17: 1 | GL17: t v | GM17: 60 | GN17: day | GP17: 365 | GQ17: days/year | HA17: t v | HB17: 60 | HC17: day
A18: PEF | B18: =PEF!D3 -> 1.3593445e+09 | D18: DCF sub | E18: =B14 -> 7.87e-05 | F18: risk/yer per pCi/m3 | G18: IRW a | H18: =B39 -> 2.5 | J18: DCC-ping | K18: =K5/(K9*(K25+K28)*K38) -> 0.21761565 | L18: pCi/g | M18: external | N18: ground plane | O18: Am-241 | P18: external | Q18: 5cm | R18: Am-241 | V18: DCC-inh | W18: =(W5*W6*W9)/((W11/W12)*(1-EXP(-W6*W9))*W10*W13*W8*W9) -> 0.001434842 | X18: decay | Y18: DCC-inh | Z18: =(Z5*Z6*Z9)/((Z11/Z12)*(1-EXP(-Z6*Z9))*Z10*Z13*Z8*Z9) -> 0.0012913578 | AA18: decay | AI18: external | AJ18: ground plane | AK18: Am-241 | AL18: external | AM18: 5cm | AN18: Am-241 | AR18: external | AS18: ground plane | AT18: Am-241 | AU18: external | AV18: 5cm | AW18: Am-241 | BA18: external | BB18: ground plane | BC18: Am-241 | BD18: external | BE18: 5cm | BF18: Am-241 | BJ18: external | BK18: ground plane | BL18: Am-241 | BM18: external | BN18: 5cm | BO18: Am-241 | BS18: ED adult | BT18: 1 | BU18: yr | BV18: EF rec c | BW18: 45 | BX18: days/year | BY18: IRS c | BZ18: =B36 -> 200 | CA18: mg/day | CB18: DCC 1E-06 | CC18: =(CC20*CC21*CC22)/((1-EXP(-CC22*CC21))*CC25*CC29*(CC24/365)*CC27*(CC28/24)*CC26) -> 3.4518438e+08 | CE18: DCC 1E-06 | CF18: =(CF20*CF21*CF22)/((1-EXP(-CF22*CF21))*CF25*CF29*(CF24/365)*CF27*(CF28/24)*CF26) -> 36011876 | CK18: DCC | CL18: =CL20/(CL21*CL22*CL23*CL24) -> 18.018018 | CN18: DCC | CO18: =CL18/(CO20*((CO25*CO27*CO28*(CO21+CO22))+(CO26*CO27))) -> 287139.73 | CQ18: DCC | CR18: =CL18/(CR20*CR21*(1/CR22)) -> 3.6036036e+08 | CT18: DCC-ping | CU18: =DD3 -> 0.050953532 | CV18: pCi/g | CW18: DCF sub | CX18: =B14 -> 7.87e-05 | CY18: risk/yer per pCi/m3 | CZ18: DCC-egg | DA18: =EZ3 -> 67701.115 | DC18: ED f | DD18: 1 | DE18: years | DF18: Y v | DG18: 2 | DH18: kg/m^2 | DO18: Y v | DP18: 2 | DQ18: kg/m^2 | DS18: 365 | DT18: days/year | ED18: Y v | EE18: 2 | EF18: kg/m^2 | EH18: 365 | EI18: day/year | ES18: Y v | ET18: 2 | EU18: kg/m^2 | EW18: 365 | EX18: days/year | FH18: Y v | FI18: 2 | FJ18: kg/m^2 | FL18: 365 | FM18: days/year | FW18: Y v | FX18: 2 | FY18: kg/m^2 | GA18: 365 | GB18: days/year | GL18: Y v | GM18: 2 | GN18: kg/m^2 | GO18: AAF fc | GP18: =B49 -> 0.15 | HA18: Y v | HB18: 2 | HC18: kg/m^2
A19: PEFsc | B19: =PEF!G3 -> 776129.41 | D19: GDCFa | E19: 1 | G19: IRA c | H19: =B33 -> 10 | J19: IFS adj | K19: =K21*K31*K35*K53+K22*K32*K34*K54 -> 43076.923 | L19: mg | M19: 2-D | N19: resident | O19: pCi/cm^2 | P19: 2-D | Q19: resident | R19: pCi/g | V19: DCC-sub | W19: =(W5*W6*W9)/((W11/W12)*(1-EXP(-W6*W9))*W14*W8*W9*(1/365)) -> 61887.817 | X19: decay | Y19: DCC-sub | Z19: =(Z5*Z6*Z9)/((Z11/Z12)*(1-EXP(-Z6*Z9))*Z14*Z8*Z9*(1/365)) -> 55699.035 | AA19: decay | AB19: GDCFo | AC19: 1 | AD19: 1 | AE19: 1 | AF19: 1 | AG19: 1 | AI19: indoor | AJ19: worker | AK19: pCi/cm^2 | AL19: indoor | AM19: worker | AN19: pCi/g | AR19: outdoor | AS19: worker | AT19: pCi/cm^2 | AU19: outdoor | AV19: worker | AW19: pCi/g | BA19: composite | BB19: worker | BC19: pCi/cm^2 | BD19: composite | BE19: worker | BF19: pCi/g | BJ19: construction | BK19: worker | BL19: pCi/cm^2 | BM19: construction | BN19: worker | BO19: pCi/g | BS19: DCF sub | BT19: =E18 -> 7.87e-05 | BU19: risk/yer per pCi/m3 | BV19: EF rec a | BW19: 45 | BX19: days/year | BY19: IRS a | BZ19: =B37 -> 100 | CA19: mg/day | CT19: DCC-egg | CU19: =FC3 -> 370.96501 | CV19: pCi/g | CW19: GDCFa | CX19: 1 | CZ19: DCC-swine | DA19: =GS3 -> 30023.768 | DD19: 1e-06 | DF19: lambda HL | DG19: 2.7e-05 | DH19: 1/day | DO19: lambda HL | DP19: 2.7e-05 | DQ19: 1/day | DR19: AAF fc | DS19: =B49 -> 0.15 | ED19: lambda HL | EE19: 2.7e-05 | EF19: 1/day | EG19: AAF fc | EH19: =B49 -> 0.15 | ES19: lambda HL | ET19: 2.7e-05 | EU19: 1/day | EV19: AAF fc | EW19: =B49 -> 0.15 | FH19: lambda HL | FI19: 2.7e-05 | FJ19: 1/day | FK19: AAF fc | FL19: =B49 -> 0.15 | FW19: lambda HL | FX19: 2.7e-05 | FY19: 1/day | FZ19: AAF fc | GA19: =B49 -> 0.15 | GL19: lambda HL | GM19: 2.7e-05 | GN19: 1/day | GO19: AAF fa | GP19: =B50 -> 0.85 | HA19: lambda HL | HB19: 2.7e-05 | HC19: 1/day
A20: PEF'sc | B20: =PEF!J3 -> 69557566 | D20: DCC-inh | E20: =(E5)/((E14/E15)*E10*E11) -> 0.0010418754 | F20: no decay | G20: IRA a | H20: =B34 -> 20 | J20: IFA adj | K20: =(K35*K31*K23*(K36/24)*K53)+(K34*K32*K24*(K37/24)*K54) -> 6192.3077 | L20: m3/year | M20: DCC 1E-06 | N20: =(N22*N23*N24)/((1-EXP(-N24*N23))*N27*N32*(N26/365)*N30*((N31*N29)+(N33*N28))) -> 113.07178 | P20: DCC 1E-06 | Q20: =(Q22*Q23*Q24)/((1-EXP(-Q24*Q23))*Q27*Q32*(Q26/365)*Q30*((Q31*Q29)+(Q33*Q28))) -> 89.146446 | AB20: IRA | AC20: =B35 -> 60 | AD20: =B35 -> 60 | AE20: =B35 -> 60 | AF20: =B35 -> 60 | AG20: =B35 -> 60 | AH20: m3/day | AI20: DCC 1E-06 | AJ20: =(AJ22*AJ23*AJ24)/((1-EXP(-AJ24*AJ23))*AJ27*AJ32*(AJ26/365)*AJ30*((AJ31*AJ29)+(AJ33*AJ28))) -> 410.69992 | AL20: DCC 1E-06 | AM20: =(AM22*AM23*AM24)/((1-EXP(-AM24*AM23))*AM27*AM32*(AM26/365)*AM30*((AM31*AM29)+(AM33*AM28))) -> 323.7982 | AR20: DCC 1E-06 | AS20: =(AS22*AS23*AS24)/((1-EXP(-AS24*AS23))*AS27*AS32*(AS26/365)*AS30*((AS31*AS29)+(AS33*AS28))) -> 182.5333 | AU20: DCC 1E-06 | AV20: =(AV22*AV23*AV24)/((1-EXP(-AV24*AV23))*AV27*AV32*(AV26/365)*AV30*((AV31*AV29)+(AV33*AV28))) -> 143.91031 | BA20: DCC 1E-06 | BB20: =(BB22*BB23*BB24)/((1-EXP(-BB24*BB23))*BB27*BB32*(BB26/365)*BB30*((BB31*BB29)+(BB33*BB28))) -> 164.27997 | BD20: DCC 1E-06 | BE20: =(BE22*BE23*BE24)/((1-EXP(-BE24*BE23))*BE27*BE32*(BE26/365)*BE30*((BE31*BE29)+(BE33*BE28))) -> 129.51928 | BJ20: DCC 1E-06 | BK20: =(BK22*BK23*BK24)/((1-EXP(-BK24*BK23))*BK29*BK34*(BK26/365)*BK32*BK33*BK31) -> 12688355 | BM20: DCC 1E-06 | BN20: =(BN22*BN23*BN24)/((1-EXP(-BN24*BN23))*BN29*BN34*(BN26/365)*BN32*BN33*BN31) -> 1323731.6 | BS20: GDCFa | BT20: 1 | BV20: ED r | BW20: 1 | BX20: years | BY20: IRA c | BZ20: =B33 -> 10 | CA20: m3/day | CB20: DL | CC20: 1 | CD20: (mrem) | CE20: DL | CF20: 1 | CG20: (mrem) | CK20: DL | CL20: 1 | CM20: (mrem) | CN20: TF game | CO20: =B28 -> 5e-05 | CP20: (mrem) | CQ20: TF game | CR20: =CO20 -> 5e-05 | CS20: (mrem) | CT20: DCC-swine | CU20: =GV3 -> 218.21546 | CV20: pCi/g | CW20: DCC-inh | CX20: =(CX5)/((CX14/CX15)*CX10*CX11) -> 0.00099638809 | CY20: no decay | CZ20: DCC-beef | DA20: =EK3 -> 12.260487 | DD20: 1000 | DE20: g/kg | DF20: lambda i | DG20: =0.693/DG23 -> 4.3949772e-06 | DH20: 1/day | DO20: lambda i | DP20: 0 | DQ20: 1/day | DR20: AAF fa | DS20: =B50 -> 0.85 | ED20: lambda i | EE20: 0 | EF20: 1/day | EG20: AAF fa | EH20: =B50 -> 0.85 | ES20: lambda i | ET20: 0 | EU20: 1/day | EV20: AAF fa | EW20: =B50 -> 0.85 | FH20: lambda i | FI20: 0 | FJ20: 1/day | FK20: AAF fa | FL20: =B50 -> 0.85 | FW20: lambda i | FX20: 0 | FY20: 1/day | FZ20: AAF fa | GA20: =B50 -> 0.85 | GL20: lambda i | GM20: 0 | GN20: 1/day | HA20: lambda i | HB20: 0 | HC20: 1/day
A21: HL (TR) | B21: 157680 | C21: half life in days | D21: DCC-sub | E21: =(E5)/((E14/E15)*E8*E9*E18*(1/365)*E19) -> 13251.044 | F21: no decay | G21: DFA adj | H21: =(H29*H32*H38*H34*H70)+(H30*H33*H39*H35*H71) -> 234.76923 | I21: hr | J21: IRS c | K21: =B36 -> 200 | L21: mg/day | AB21: GDCFi | AC21: 0.4 | AD21: 0.4 | AE21: 0.4 | AF21: 0.4 | AG21: 0.4 | AI21: 2-D | AL21: 2-D | AR21: 2-D | AU21: 2-D | BA21: 2-D | BD21: 2-D | BJ21: 2-D | BM21: 2-D | BS21: DCC-inh | BT21: =(BT5)/(BT10*BT11) -> 0.068817204 | BU21: no decay | BV21: ED rec c | BW21: 1 | BY21: IRA a | BZ21: =B34 -> 20 | CA21: m3/day | CB21: t | CC21: 26 | CD21: yr | CE21: t | CF21: 26 | CG21: yr | CK21: DCF food | CL21: =E35 -> 0.00074 | CM21: pCi/g | CN21: R upp | CO21: =CO23 -> 0.005 | CQ21: Q w-game | CR21: 1 | CS21: L/day | CT21: DCC-beef | CU21: =EN3 -> 190.94414 | CV21: pCi/g | CW21: DCC-sub | CX21: =(CX5)/((CX14/CX15)*CX8*CX9*CX18*(1/365)*CX19) -> 13251.044 | CY21: no decay | CZ21: DCC-milk | DA21: =DV3 -> 37.394131 | DC21: CF p | DD21: 1 | DF21: T | DG21: 1 | DH21: unitless | DO21: T | DP21: 1 | DQ21: unitless | ED21: T | EE21: 1 | EF21: unitless | ES21: T | ET21: 1 | EU21: unitless | FH21: T | FI21: 1 | FJ21: unitless | FW21: T | FX21: 1 | FY21: unitless | GL21: T | GM21: 1 | GN21: unitless | HA21: T | HB21: 1 | HC21: unitless | HD21: DCC | HE21: Am-241 | HF21: mass balance
A22: BCF | B22: 30 | C22: L/kg | D22: DCC-inh | E22: =(E5*E9*E6)/((E14/E15)*(1-EXP(-E6*E9))*E10*E11) -> 0.0010427113 | F22: decay | G22: IFF rft adj | H22: =(H29*H32*H23*H70)+(H30*H33*H24*H71) -> 16326.154 | I22: g | J22: IRS a | K22: =B37 -> 100 | L22: mg/day | M22: DL | N22: 1 | O22: (mrem) | P22: DL | Q22: 1 | R22: (mrem) | V22: Worker | W22: indoor | X22: Am-241 | Y22: Worker | Z22: construction | AA22: Am-241 | AB22: ACF | AC22: 1 | AD22: 1 | AE22: 1 | AF22: 1 | AG22: 1 | AI22: DL | AJ22: 1 | AK22: (mrem) | AL22: DL | AM22: 1 | AN22: (mrem) | AR22: DL | AS22: 1 | AT22: (mrem) | AU22: DL | AV22: 1 | AW22: (mrem) | BA22: DL | BB22: 1 | BC22: (mrem) | BD22: DL | BE22: 1 | BF22: (mrem) | BJ22: DL | BK22: 1 | BL22: (mrem) | BM22: DL | BN22: 1 | BO22: (mrem) | BS22: DCC-sub | BT22: =(BT5)/((BT14/24)*(BT8/365)*BT9*BT19*BT20) -> 1484116.9 | BU22: no decay | BV22: ED rec a | BW22: 1 | BY22: EF rec | BZ22: 75 | CA22: days/year | CB22: lambda | CC22: =0.693/CC23 -> 0.0016041667 | CE22: lambda | CF22: =0.693/CF23 -> 0.0016041667 | CK22: EF rec | CL22: 75 | CM22: day/year | CN22: R es | CO22: =CO24 -> 0.25 | CR22: 1000 | CS22: g | CT22: DCC-milk | CU22: =DY3 -> 726.34492 | CV22: pCi/g | CW22: DCC-inh | CX22: =(CX5*CX9*CX6)/((CX14/CX15)*(1-EXP(-CX6*CX9))*CX10*CX11) -> 0.00099718749 | CY22: decay | CZ22: DCC-po | DA22: =GD3 -> 14720.339 | DC22: AAF fc | DD22: =B49 -> 0.15 | DF22: t w | DG22: 14 | DH22: days | DO22: t w | DP22: 14 | DQ22: days | ED22: t w | EE22: 14 | EF22: days | ES22: t w | ET22: 14 | EU22: days | FH22: t w | FI22: 14 | FJ22: days | FW22: t w | FX22: 14 | FY22: days | GL22: t w | GM22: 14 | GN22: days | HA22: t w | HB22: 14 | HC22: days | HD22: pCi/g | HE22: resident | HF22: Soil 2 gw
A23: TF dairy | B23: 2e-06 | D23: DCC-sub | E23: =(E5*E9*E6)/((E14/E15)*E8*E9*(1-EXP(-E6*E9))*E18*(1/365)*E19) -> 13261.675 | F23: decay | G23: IRF rft-c | H23: =B40 -> 14.8 | I23: g/day | J23: IRA c | K23: =B33 -> 10 | L23: m3/day | M23: t | N23: 26 | O23: yr | P23: t | Q23: 26 | R23: yr | V23: air | W23: DCC | X23: pCi/m^3 | Y23: air | Z23: DCC | AA23: pCi/m^3 | AB23: DCF ext | AC23: =B9 -> 0.0371 | AD23: =B9 -> 0.0371 | AE23: =B9 -> 0.0371 | AF23: =B9 -> 0.0371 | AG23: =B9 -> 0.0371 | AH23: mrem/yr per pCi/g | AI23: t | AJ23: 25 | AK23: yr | AL23: t | AM23: 25 | AN23: yr | AR23: t | AS23: 25 | AT23: yr | AU23: t | AV23: 25 | AW23: yr | BA23: t | BB23: 25 | BC23: yr | BD23: t | BE23: 25 | BF23: yr | BJ23: t | BK23: 1 | BL23: yr | BM23: t | BN23: 1 | BO23: yr | BS23: DCC-inh | BT23: =(BT5*BT28*BT6)/((1-EXP(-BT6*BT28))*BT10*BT11) -> 0.070262306 | BU23: decay | BV23: ET rec c | BW23: 1 | BX23: hours/event | BY23: EF a | BZ23: 75 | CA23: days/year | CB23: HL (TR) | CC23: =B17 -> 432 | CD23: years | CE23: HL (TR) | CF23: =B17 -> 432 | CG23: years | CK23: ED rec | CL23: 1 | CM23: year | CN23: Bv dry | CO23: =B31 -> 0.005 | CT23: DCC-po | CU23: =GG3 -> 103.19125 | CV23: pCi/g | CW23: DCC-sub | CX23: =(CX5*CX9*CX6)/((CX14/CX15)*CX8*CX9*(1-EXP(-CX6*CX9))*CX18*(1/365)*CX19) -> 13261.675 | CY23: decay | CZ23: DCC-fish | DA23: =FO3 -> 1.1776271 | DC23: AAF fa | DD23: =B50 -> 0.85 | DF23: DL | DG23: =B21 -> 157680 | DH23: half life in days | DO23: R upv | DP23: =DP25 -> 5e-05 | ED23: R upv | EE23: =EE25 -> 0.006 | ES23: R upv | ET23: =ET25 -> 0.006 | FH23: R upv | FI23: 0.2 | FW23: R upv | FX23: =FX25 -> 0.2 | GL23: R upv | GM23: =GM25 -> 0.005 | HA23: R upv | HB23: =HB25 -> 0.005 | HD23: =(HE25*HE33*HE38*HE32*10^-3*HE31*HE27)/(HE30*HE41*(1-EXP(-HE27*HE31))) -> 0.42864922 | HF23: mcl based
A24: TF beef | B24: 5e-05 | D24: EF child | E24: 350 | F24: days/year | G24: IRF rft-a | H24: =B41 -> 56.2 | I24: g/day | J24: IRA a | K24: =B34 -> 20 | L24: m3/day | M24: lambda | N24: =0.693/N25 -> 0.0016041667 | P24: lambda | Q24: =0.693/Q25 -> 0.0016041667 | V24: decay | W24: =1/((1/W39)+(1/W40)) -> 0.0012913578 | Y24: decay | Z24: =1/((1/Z37)+(1/Z38)) -> 0.0012913578 | AB24: DCF inh | AC24: =B5 -> 0.155 | AD24: =B5 -> 0.155 | AE24: =B5 -> 0.155 | AF24: =B5 -> 0.155 | AG24: =B5 -> 0.155 | AH24: mrem/pCi | AI24: lambda | AJ24: =0.693/AJ25 -> 0.0016041667 | AL24: lambda | AM24: =0.693/AM25 -> 0.0016041667 | AR24: lambda | AS24: =0.693/AS25 -> 0.0016041667 | AU24: lambda | AV24: =0.693/AV25 -> 0.0016041667 | BA24: lambda | BB24: =0.693/BB25 -> 0.0016041667 | BD24: lambda | BE24: =0.693/BE25 -> 0.0016041667 | BJ24: lambda | BK24: =0.693/BK25 -> 0.0016041667 | BM24: lambda | BN24: =0.693/BN25 -> 0.0016041667 | BS24: DCC-sub | BT24: =(BT5*BT28*BT6)/((BT14/24)*(BT8/365)*BT9*(1-EXP(-BT6*BT28))*BT19*BT20) -> 1515282.1 | BU24: decay | BV24: ET rec a | BW24: 1 | BX24: hours/event | BY24: EF c | BZ24: 75 | CA24: days/year | CB24: EF | CC24: 75 | CD24: day/yr | CE24: EF | CF24: 75 | CG24: day/yr | CK24: IRGL rec | CL24: 1 | CM24: g/day | CN24: MLF game | CO24: 0.25 | CT24: DCC-fish | CU24: =FR3 -> 0.0096565426 | CV24: pCi/g | CW24: EF child | CX24: 350 | CY24: days/year | CZ24: IFW adj | DA24: =(DA35*DA37*DA27*DA51)+(DA36*DA38*DA28*DA52) -> 784.7 | DB24: L | DG24: 1000 | DO24: R es | DP24: =DP26 -> 0.26 | ED24: R es | EE24: =EE26 -> 0.25 | ES24: R es | ET24: =ET26 -> 0.25 | FH24: R es | FI24: 0.25 | FW24: R es | FX24: =FX26 -> 0.25 | GL24: R es | GM24: =GM26 -> 0.25 | HA24: R es | HB24: =HB26 -> 0.25 | HD24: =(HE26*HE33*HE38*HE32*10^-3*HE31*HE27)/(HE30*HE41*(1-EXP(-HE27*HE31))) -> 5.9471793e-05 | HF24: risk based
A25: TF poultry | B25: 0.006 | D25: EF adult | E25: 350 | F25: days/year | G25: IFV rvg adj | H25: =(H29*H32*H26*H70)+(H30*H33*H27*H71) -> 8513.0769 | I25: g | J25: IFF rft adj | K25: =(K31*K35*K26*K53)+(K32*K34*K27*K54) -> 16326.154 | L25: g | M25: HL (TR) | N25: =B17 -> 432 | O25: years | P25: HL (TR) | Q25: =B17 -> 432 | R25: years | V25: no decay | W25: =1/((1/W37)+(1/W38)) -> 0.0012903226 | Y25: no decay | Z25: =1/((1/Z39)+(1/Z40)) -> 0.0012903226 | AI25: HL (TR) | AJ25: =B17 -> 432 | AK25: years | AL25: HL (TR) | AM25: =B17 -> 432 | AN25: years | AR25: HL (TR) | AS25: =B17 -> 432 | AT25: years | AU25: HL (TR) | AV25: =B17 -> 432 | AW25: years | BA25: HL (TR) | BB25: =B17 -> 432 | BC25: years | BD25: HL (TR) | BE25: =B17 -> 432 | BF25: years | BJ25: HL (TR) | BK25: =B17 -> 432 | BL25: years | BM25: HL (TR) | BN25: =B17 -> 432 | BO25: years | BS25: EF child | BT25: 75 | BU25: days/year | BV25: ET recw | BW25: 1 | BX25: hrs/day | BY25: ED rec | BZ25: 1 | CA25: years | CB25: ED | CC25: 1 | CD25: yr | CE25: ED | CF25: 1 | CG25: yr | CN25: Q p-game | CO25: 1 | CP25: kg/day | CT25: IFS adj | CU25: =(CU27*CU31*CU35*CU49)+(CU28*CU32*CU34*CU50) -> 40250 | CV25: mg | CW25: EF adult | CX25: 350 | CY25: days/year | CZ25: IFA adj | DA25: =(DA35*DA37*DA29*(DA40/24)*DA51)+(DA36*DA38*DA30*(DA41/24)*DA52) -> 6475 | DB25: m3 | DO25: Bv wet | DP25: =B28 -> 5e-05 | ED25: Bv dry | EE25: =B29 -> 0.006 | ES25: Bv dry | ET25: =B29 -> 0.006 | FH25: Bv dry | FI25: 0.005 | FW25: Bv dry | FX25: 0.2 | GL25: Bv dry | GM25: 0.005 | HA25: Bv dry | HB25: 0.005 | HD25: MCL | HE25: 15 | HF25: pCi/L
A26: TF egg | B26: 0.004 | D26: AAF c | E26: =B47 -> 0.23076923 | G26: IRV rvg-c | H26: =B42 -> 10.4 | I26: g/day | J26: IRF rft-c | K26: =B40 -> 14.8 | L26: g/day | M26: EF | N26: 350 | O26: day/yr | P26: EF | Q26: 350 | R26: day/yr | V26: DL | W26: 1 | X26: (mrem) | Y26: DL | Z26: 1 | AA26: (mrem) | AI26: EF | AJ26: 250 | AK26: day/yr | AL26: EF | AM26: 250 | AN26: day/yr | AR26: EF | AS26: 225 | AT26: day/yr | AU26: EF | AV26: 225 | AW26: day/yr | BA26: EF | BB26: 250 | BC26: day/yr | BD26: EF | BE26: 250 | BF26: day/yr | BJ26: EF | BK26: =BK27*BK28 -> 250 | BL26: day/yr | BM26: EF | BN26: =BN27*BN28 -> 250 | BO26: day/yr | BS26: EF adult | BT26: 75 | BU26: days/year | BV26: EV c | BW26: 1 | BX26: events/day | BY26: ED a | BZ26: 1 | CA26: years | CB26: GDCFo | CC26: 1.57e-05 | CE26: GDCFo | CF26: 0.000135 | CN26: Q s-game | CO26: 1 | CP26: kg/day | CT26: IFA adj | CU26: =((CU35*CU31*CU29*CU49)+(CU34*CU32*CU30*CU50)) -> 6475 | CV26: m3 | CW26: AAF fc | CX26: =B49 -> 0.15 | CZ26: DFA adj | DA26: =(DA35*DA37*DA42*DA44*DA51)+(DA36*DA38*DA43*DA45*DA52) -> 239.575 | DB26: hr | DF26: Bv dry | DG26: =B29 -> 0.006 | DO26: MLF p | DP26: 0.26 | ED26: MLF p | EE26: 0.25 | ES26: MLF p | ET26: 0.25 | FH26: MLF egg | FI26: 0.25 | FW26: MLF fi | FX26: 0.25 | GL26: MLF po | GM26: 0.25 | HA26: MLF sw | HB26: 0.25 | HD26: DCC | HE26: =H3 -> 0.002081135 | HF26: pCi/L
A27: TF swine | B27: 0.00017 | D27: AAF a | E27: =B48 -> 0.76923077 | G27: IRV rvg-a | H27: =B43 -> 28.5 | I27: g/day | J27: IRF rft-a | K27: =B41 -> 56.2 | L27: g/day | M27: ED | N27: 1 | O27: yr | P27: ED | Q27: 1 | R27: yr | V27: lambda | W27: =0.693/W28 -> 0.0016041667 | Y27: lambda | Z27: =0.693/Z28 -> 0.0016041667 | AB27: ED | AC27: 25 | AD27: 25 | AE27: 25 | AF27: 1 | AG27: 1 | AH27: years | AI27: ED | AJ27: 1 | AK27: yr | AL27: ED | AM27: 1 | AN27: yr | AR27: ED | AS27: 1 | AT27: yr | AU27: ED | AV27: 1 | AW27: yr | BA27: ED | BB27: 1 | BC27: yr | BD27: ED | BE27: 1 | BF27: yr | BJ27: EW | BK27: 50 | BL27: wk/yr | BM27: EW | BN27: 50 | BO27: wk/yr | BS27: EF rec | BT27: 75 | BU27: days/year | BV27: EV a | BW27: 1 | BX27: events/day | BY27: ED c | BZ27: 1 | CA27: years | CB27: ACF | CC27: 0.809 | CE27: ACF | CF27: 0.711 | CN27: f p-game | CO27: 1 | CP27: unitless | CT27: IRS c | CU27: =B36 -> 200 | CV27: mg/day | CW27: AAF fa | CX27: =B50 -> 0.85 | CZ27: IRW c | DA27: =B38 -> 0.78 | DB27: L/day | ED27: TFm | EE27: =B23 -> 2e-06 | ES27: TF b | ET27: =B24 -> 5e-05 | FH27: TF egg | FI27: =B26 -> 0.004 | FW27: TF fish | FX27: 1 | GL27: TF po | GM27: =B25 -> 0.006 | HA27: TF sw | HB27: =B27 -> 0.00017 | HD27: lambda | HE27: =0.693/HE28 -> 0.0016041667
